{
 "currentVersion": 10.91,
 "serviceDescription": "WebOffice/dgm1_2020",
 "name": "WebOffice/dgm1_2020",
 "description": "",
 "extent": {
  "xmin": 628999.5,
  "ymin": 5637999.5,
  "xmax": 654999.5,
  "ymax": 5659999.5,
  "spatialReference": {
   "wkid": 25832,
   "latestWkid": 25832,
   "vcsWkid": 7837,
   "latestVcsWkid": 7837
  }
 },
 "initialExtent": {
  "xmin": 628999.5,
  "ymin": 5637999.5,
  "xmax": 654999.5,
  "ymax": 5659999.5,
  "spatialReference": {
   "wkid": 25832,
   "latestWkid": 25832,
   "vcsWkid": 7837,
   "latestVcsWkid": 7837
  }
 },
 "fullExtent": {
  "xmin": 628999.5,
  "ymin": 5637999.5,
  "xmax": 654999.5,
  "ymax": 5659999.5,
  "spatialReference": {
   "wkid": 25832,
   "latestWkid": 25832,
   "vcsWkid": 7837,
   "latestVcsWkid": 7837
  }
 },
 "heightModelInfo": {
  "heightModel": "gravity_related_height",
  "vertCRS": "DHHN2016_(height)",
  "heightUnit": "Meter"
 },
 "pixelSizeX": 1,
 "pixelSizeY": 1,
 "bandCount": 1,
 "pixelType": "F32",
 "minPixelSize": 0.5291677250021167,
 "maxPixelSize": 33.86673440013547,
 "copyrightText": "",
 "serviceDataType": "esriImageServiceDataTypeGeneric",
 "minValues": [
  153.03999328613
 ],
 "maxValues": [
  513.03997802734
 ],
 "meanValues": [
  262.64213086278
 ],
 "stdvValues": [
  74.274728443638
 ],
 "objectIdField": "",
 "fields": [],
 "capabilities": "Image,Metadata,Mensuration",
 "defaultMosaicMethod": "Center",
 "allowedMosaicMethods": "",
 "sortField": "",
 "sortValue": null,
 "sortAscending": true,
 "mosaicOperator": "First",
 "defaultCompressionQuality": 75,
 "defaultResamplingMethod": "Bilinear",
 "maxImageHeight": 4100,
 "maxImageWidth": 15000,
 "singleFusedMapCache": true,
 "tileInfo": {
  "rows": 256,
  "cols": 256,
  "dpi": 96,
  "format": "LERC",
  "compressionQuality": 0,
  "lercError": 0,
  "origin": {
   "x": -5120900,
   "y": 9998100
  },
  "spatialReference": {
   "wkid": 25832,
   "latestWkid": 25832
  },
  "lods": [
   {
    "level": 0,
    "resolution": 33.86673440013547,
    "scale": 128000
   },
   {
    "level": 1,
    "resolution": 16.933367200067735,
    "scale": 64000
   },
   {
    "level": 2,
    "resolution": 8.466683600033868,
    "scale": 32000
   },
   {
    "level": 3,
    "resolution": 4.233341800016934,
    "scale": 16000
   },
   {
    "level": 4,
    "resolution": 2.116670900008467,
    "scale": 8000
   },
   {
    "level": 5,
    "resolution": 1.0583354500042335,
    "scale": 4000
   },
   {
    "level": 6,
    "resolution": 0.5291677250021167,
    "scale": 2000
   },
   {
    "level": 7,
    "resolution": 0.26458386250105836,
    "scale": 1000
   },
   {
    "level": 8,
    "resolution": 0.13229193125052918,
    "scale": 500
   },
   {
    "level": 9,
    "resolution": 0.06614596562526459,
    "scale": 250
   },
   {
    "level": 10,
    "resolution": 0.033072982812632296,
    "scale": 125
   }
  ]
 },
 "cacheType": "Elevation",
 "allowRasterFunction": true,
 "rasterFunctionInfos": [
  {
   "name": "None",
   "description": "",
   "help": ""
  }
 ],
 "rasterTypeInfos": [
  {
   "name": "Raster Dataset",
   "description": "Supports all ArcGIS Raster Datasets",
   "help": ""
  }
 ],
 "mensurationCapabilities": "Basic",
 "hasHistograms": true,
 "hasColormap": false,
 "hasRasterAttributeTable": false,
 "minScale": 128000,
 "maxScale": 2000,
 "minLOD": 0,
 "maxLOD": 6,
 "exportTilesAllowed": false,
 "hasMultidimensions": false,
 "supportsStatistics": false,
 "supportsAdvancedQueries": false,
 "editFieldsInfo": null,
 "ownershipBasedAccessControlForRasters": null,
 "allowComputeTiePoints": false,
 "useStandardizedQueries": true,
 "advancedQueryCapabilities": {
  "useStandardizedQueries": true,
  "supportsStatistics": false,
  "supportsOrderBy": false,
  "supportsDistinct": false,
  "supportsPagination": false
 },
 "spatialReference": {
  "wkid": 25832,
  "latestWkid": 25832,
  "vcsWkid": 7837,
  "latestVcsWkid": 7837
 }
}
