View In:
ArcGIS JavaScript
ArcGIS Online Map Viewer
ArcGIS Earth
ArcMap
View Footprint In:
ArcGIS Online Map Viewer
Service Description: WebOffice/dgm1_etrs89
Name: WebOffice/dgm1_etrs89
Description:
Single Fused Map Cache: true
Tile Info:
- Height: 256
- Width: 256
- DPI: 96
-
Levels of Detail: 11
- Format: LERC
- Compression Quality: 0.0
- LERC Error: 0.0
- Origin: X: -5120900.0
Y: 9998100.0
- Spatial Reference: 25832
(25832)
LatestVCSWkid(0)
Extent:
XMin: 629999.5000999998
YMin: 5638999.5
XMax: 652999.5000999998
YMax: 5660999.5
Spatial Reference: 25832
(25832)
LatestVCSWkid(0)
Initial Extent:
XMin: 629999.5000999998
YMin: 5638999.5
XMax: 652999.5000999998
YMax: 5660999.5
Spatial Reference: 25832
(25832)
LatestVCSWkid(0)
Full Extent:
XMin: 629999.5000999998
YMin: 5638999.5
XMax: 652999.5000999998
YMax: 5660999.5
Spatial Reference: 25832
(25832)
LatestVCSWkid(0)
Pixel Size X: 1.0
Pixel Size Y: 1.0
Band Count: 1
Pixel Type: S16
RasterFunction Infos: {"rasterFunctionInfos": [{
"name": "None",
"description": "",
"help": ""
}]}
Mensuration Capabilities: Basic
Has Histograms: true
Has Colormap: false
Has Multi Dimensions : false
Rendering Rule:
Min Scale: 128000
Max Scale: 2000
Min LOD: 0
Max LOD: 6
Copyright Text:
Service Data Type: esriImageServiceDataTypeThematic
Min Values: 155
Max Values: 438
Mean Values: 249.79457259199
Standard Deviation Values: 63.773605670472
Object ID Field:
Fields:
None
Default Mosaic Method: Center
Allowed Mosaic Methods:
SortField:
SortValue: null
Mosaic Operator: First
Default Compression Quality: 75
Default Resampling Method: Bilinear
Max Record Count: null
Max Image Height: 4100
Max Image Width: 15000
Max Download Image Count: null
Max Mosaic Image Count: null
Allow Raster Function: true
Allow Copy: null
Allow Analysis: null
Allow Compute TiePoints: false
Supports Statistics: false
Supports Advanced Queries: false
Use StandardizedQueries: true
Raster Type Infos:
Name: Raster Dataset
Description: Supports all ArcGIS Raster Datasets
Help:
Has Raster Attribute Table: false
Edit Fields Info: null
Ownership Based AccessControl For Rasters: null
Child Resources:
Info
Histograms
Key Properties
Legend
Raster Function Infos
Supported Operations:
Export Image
Identify
Measure
Compute Histograms
Compute Statistics Histograms
Get Samples
Compute Class Statistics
Query Boundary
Compute Pixel Location
Compute Angles
Validate
Project